BEGIN:VCALENDAR
VERSION:2.0
PRODID:-//Critical Skills Space - ECPv6.15.20//NONSGML v1.0//EN
CALSCALE:GREGORIAN
METHOD:PUBLISH
X-WR-CALNAME:Critical Skills Space
X-ORIGINAL-URL:https://criticalskills.space
X-WR-CALDESC:Events for Critical Skills Space
REFRESH-INTERVAL;VALUE=DURATION:PT1H
X-Robots-Tag:noindex
X-PUBLISHED-TTL:PT1H
BEGIN:VTIMEZONE
TZID:Europe/Zagreb
BEGIN:DAYLIGHT
TZOFFSETFROM:+0100
TZOFFSETTO:+0200
TZNAME:CEST
DTSTART:20240331T010000
END:DAYLIGHT
BEGIN:STANDARD
TZOFFSETFROM:+0200
TZOFFSETTO:+0100
TZNAME:CET
DTSTART:20241027T010000
END:STANDARD
BEGIN:DAYLIGHT
TZOFFSETFROM:+0100
TZOFFSETTO:+0200
TZNAME:CEST
DTSTART:20250330T010000
END:DAYLIGHT
BEGIN:STANDARD
TZOFFSETFROM:+0200
TZOFFSETTO:+0100
TZNAME:CET
DTSTART:20251026T010000
END:STANDARD
BEGIN:DAYLIGHT
TZOFFSETFROM:+0100
TZOFFSETTO:+0200
TZNAME:CEST
DTSTART:20260329T010000
END:DAYLIGHT
BEGIN:STANDARD
TZOFFSETFROM:+0200
TZOFFSETTO:+0100
TZNAME:CET
DTSTART:20261025T010000
END:STANDARD
END:VTIMEZONE
BEGIN:VEVENT
DTSTART;TZID=Europe/Zagreb:20250624T173000
DTEND;TZID=Europe/Zagreb:20250624T193000
DTSTAMP:20260421T181452
CREATED:20250606T102050Z
LAST-MODIFIED:20250614T090905Z
UID:16986-1750786200-1750793400@criticalskills.space
SUMMARY:SQL Indexes Explained: Boost Your Query Performance
DESCRIPTION:AI can solve many problems\, but to use it correctly we need to understand how things work “under the hood.” Relying solely on automated index optimization and recommendations can lead to a pitfall that can cost you not only performance\, but also real money\, especially in the cloud environment. \nWe will show you how only a few little tweaks can tremendously boost your SQL performance. Join our SQL optimization session and get the clarity you need! \nWhether you’re a beginner or looking to deepen your understanding\, this session will equip you with the knowledge to make informed decisions about your SQL journey! \n\n\n\n\n\n\n\n  \n  \n\n\n\nTo make sure we can accommodate everyone\, please book your place ahead of time by reserving your free spot! Reserving early helps us organize the event smoothly and ensures you won’t miss out. \nReserve Your Spot \nReserve your free spot \n  \n\n\n\n\n\n\n\n\n\nSession is designed to demystify SQL indexing\, covering: \n\nCommon causes of slow queries\nThe role of indexing in query execution\nSQL Index types\nSQL Index row store vs column store\nSQL Index creation vs rebuild\nExamples of bad vs. good SQL indexing\nManaging SQL Indexes without SQL syntax (management tools\, MSSQL + MySQL)\nAzure database automatic tuning as a “first line of defense”\nDemo: live tweaking of indexes with performance impact \n \n\n\n\n\n\n\n \nEvent Schedule \n\n\n \n17:00 – 17:30 – Opening. To ensure the session starts on time\, please arrive a few minutes early\, take a drink and relax! \n\n\n \n17:30 – 20:00 – Main event. Don’t hesitate to ask questions if you want to know more! \n\n\n \n20:00 ~  Mingle around\, talk to people! You never know what opportunities might be just around the corner. \n\n\n \n  \n\n\n \nReserve Your Spot \n\n\n \nTo make sure we can accommodate everyone\, please book your place ahead of time by reserving your free spot! Reserving early helps us organize the event smoothly and ensures you won’t miss out. \nReserve your free spot \n  \nPowered by
URL:https://criticalskills.space/event/sql-optimization-202506/
LOCATION:Sveučilište Algebra Bernays – Lecture room Steve Jobs\, Level A (Basement)\, Gradišćanska ul. 24\, Zagreb\, 10000\, Croatia (Local Name: Hrvatska)
ATTACH;FMTTYPE=image/png:https://criticalskills.space/wp-content/uploads/2025/06/20250624-SQL-optimization-entrio-small-4-3.png
ORGANIZER;CN="Domagoj Pi%C5%A1kur":MAILTO:domagoj@invent.hr
END:VEVENT
END:VCALENDAR